BEGIN:VCALENDAR
VERSION:2.0
PRODID:-//hacksw/handcal//NONSGML v1.0//EN
BEGIN:VEVENT
SUMMARY:Concours Nature Vannes - Championnat du Morbihan
UID:150bc724-6229-49e0-9968-5a857a98c1ee
DTSTART:20260425T220000Z
DTEND:20260426T220000Z
LOCATION:Localisation   
CATEGORIES:Sportif
STATUS:
DESCRIPTION:<p><a
 href="https://tiralarcbretagne.fr/wp-content/uploads/2026/03/Mandat-NATURE-VANNES-26-avril-2026.pdf"
 target="_blank" rel="noreferrer noopener">Mandat</a></p>
 
 <p><a
 href="https://cd56-nature.inscriptarc.fr/" target="_blank"
 rel="noreferrer noopener">Inscription</a></p>
URL;VALUE=URI:https://www.archersdecoigny.com/evenements/2026/04/26/concours-nature-vannes-championnat-du-morbihan-2443254
END:VEVENT
END:VCALENDAR
