BEGIN:VCALENDAR
VERSION:2.0
PRODID:-//hacksw/handcal//NONSGML v1.0//EN
BEGIN:VEVENT
SUMMARY:Concours TAE Paimpol
UID:04637a61-eb31-4536-9a98-a40817fca050
DTSTART:20260501T220000Z
DTEND:20260503T220000Z
LOCATION:Localisation   
CATEGORIES:Sportif
STATUS:
DESCRIPTION:<p><a
 href="https://tiralarcbretagne.fr/wp-content/uploads/2026/04/Mandat-TAE-PAIMPOL-2-et-3-mai-2026.pdf"
 target="_blank" rel="noreferrer noopener">Mandat Paimpol</a></p>
URL;VALUE=URI:https://www.archersdecoigny.com/evenements/2026/05/02/concours-tae-paimpol-2443074
END:VEVENT
END:VCALENDAR
