BEGIN:VCALENDAR
VERSION:2.0
PRODID:-//hacksw/handcal//NONSGML v1.0//EN
BEGIN:VEVENT
SUMMARY:Concours Nature Ploeuc-sur-Lie
UID:15cf33af-b834-4023-93d6-f3f14bde0e1f
DTSTART:20260502T220000Z
DTEND:20260503T220000Z
LOCATION:Localisation   
CATEGORIES:Sportif
STATUS:
DESCRIPTION:<p><a
 href="https://tiralarcbretagne.fr/wp-content/uploads/2026/04/Mandat-NATURE-PLOEUC-LHERMITAGE-3-mai-2026.pdf"
 target="_blank" rel="noreferrer noopener">Mandat</a></p>
URL;VALUE=URI:https://www.archersdecoigny.com/evenements/2026/05/03/concours-nature-ploeuc-sur-lie-2443256
END:VEVENT
END:VCALENDAR
