BEGIN:VCALENDAR
VERSION:2.0
PRODID:-//hacksw/handcal//NONSGML v1.0//EN
BEGIN:VEVENT
SUMMARY:Concours TAE Rennes
UID:e036c094-aec1-45e4-9134-8a8cf21179f6
DTSTART:20260505T220000Z
DTEND:20260506T220000Z
LOCATION:Localisation   
CATEGORIES:Sportif
STATUS:
DESCRIPTION:<p>En attente du mandat</p>
URL;VALUE=URI:https://www.archersdecoigny.com/evenements/2026/05/06/concours-tae-rennes-2443076
END:VEVENT
END:VCALENDAR
