BEGIN:VCALENDAR
VERSION:2.0
PRODID:-//hacksw/handcal//NONSGML v1.0//EN
BEGIN:VEVENT
SUMMARY:Concours TAE Saint Jacques de la Lande
UID:66b75b5c-f685-4be8-98eb-b9028852c2cb
DTSTART:20260505T220000Z
DTEND:20260506T220000Z
LOCATION:Localisation   
CATEGORIES:Sportif
STATUS:
DESCRIPTION:<p><a
 href="https://tiralarcbretagne.fr/wp-content/uploads/2026/04/Mandat-TAE-SAINT-JACQUES-DE-LA-LANDES-6-mai-2026.pdf"
 target="_blank" rel="noreferrer noopener">Mandat Saint Jacques de la
 Lande</a></p>
URL;VALUE=URI:https://www.archersdecoigny.com/evenements/2026/05/06/concours-tae-saint-jacques-de-la-lande-2443078
END:VEVENT
END:VCALENDAR
