BEGIN:VCALENDAR
VERSION:2.0
PRODID:-//hacksw/handcal//NONSGML v1.0//EN
BEGIN:VEVENT
SUMMARY:Concours 3D Pontivy
UID:3bd01155-4cdd-4054-87a2-fbf9fd235a7a
DTSTART:20260507T220000Z
DTEND:20260509T220000Z
LOCATION:Localisation   
CATEGORIES:Sportif
STATUS:
DESCRIPTION:<p><a
 href="https://tiralarcbretagne.fr/wp-content/uploads/2026/03/Mandat-3D-PONTIVY-8-et-9-mai-2026.pdf"
 target="_blank" rel="noreferrer noopener">Mandat</a></p>
URL;VALUE=URI:https://www.archersdecoigny.com/evenements/2026/05/08/concours-3d-pontivy-2443261
END:VEVENT
END:VCALENDAR
