BEGIN:VCALENDAR
VERSION:2.0
PRODID:-//hacksw/handcal//NONSGML v1.0//EN
BEGIN:VEVENT
SUMMARY:Concours TAE Rennes
UID:518fb085-bb85-4b03-b02e-62662b8ffaca
DTSTART:20260508T220000Z
DTEND:20260509T220000Z
LOCATION:Localisation   
CATEGORIES:Sportif
STATUS:
DESCRIPTION:<p>En attente du mandat</p>
URL;VALUE=URI:https://www.archersdecoigny.com/evenements/2026/05/09/concours-tae-rennes-2443079
END:VEVENT
END:VCALENDAR
