BEGIN:VCALENDAR
VERSION:2.0
PRODID:-//hacksw/handcal//NONSGML v1.0//EN
BEGIN:VEVENT
SUMMARY:Concours TAE Saint Pol de Leon
UID:549e2ae0-0d15-434b-9b8b-a233ba3b1a75
DTSTART:20260508T220000Z
DTEND:20260510T220000Z
LOCATION:Localisation   
CATEGORIES:Sportif
STATUS:
DESCRIPTION:<p><a href="https://stpoldeleon-tae.inscriptarc.fr/"
 target="_blank" rel="noreferrer noopener">Inscription Saint Pol de
 Leon</a></p>
 
 <p><a
 href="https://tiralarcbretagne.fr/wp-content/uploads/2026/03/Mandat-TAE-SAINT-POL-DE-LEON-9-mai-2026.pdf"
 target="_blank" rel="noreferrer noopener">Mandat Saint Pol de
 Leon</a></p>
URL;VALUE=URI:https://www.archersdecoigny.com/evenements/2026/05/09/concours-tae-saint-pol-de-leon-2443090
END:VEVENT
END:VCALENDAR
