BEGIN:VCALENDAR
VERSION:2.0
PRODID:-//hacksw/handcal//NONSGML v1.0//EN
BEGIN:VEVENT
SUMMARY:Concours TAE Saint Quay et Portrieux
UID:3a633977-59d7-4c39-bf70-d4fa31869be0
DTSTART:20260508T220000Z
DTEND:20260510T220000Z
LOCATION:Localisation   
CATEGORIES:Sportif
STATUS:
DESCRIPTION:<p><a
 href="https://tiralarcbretagne.fr/wp-content/uploads/2026/03/Mandat-TAE-SAINT-QUAY-PORTRIEUX-9-et-10-mai-2026.pdf"
 target="_blank" rel="noreferrer noopener">Mandat</a></p>
 
 <p><a
 href="https://saintquay-tae.inscriptarc.fr/" target="_blank"
 rel="noreferrer noopener">Inscription</a></p>
URL;VALUE=URI:https://www.archersdecoigny.com/evenements/2026/05/09/concours-tae-saint-quay-et-portrieux-2443100
END:VEVENT
END:VCALENDAR
