BEGIN:VCALENDAR
VERSION:2.0
PRODID:-//hacksw/handcal//NONSGML v1.0//EN
BEGIN:VEVENT
SUMMARY:Concours Campagne Rennes - Championnat de Bretagne
UID:7cc5d884-7647-433c-81c4-8ed92c85695b
DTSTART:20260509T220000Z
DTEND:20260510T220000Z
LOCATION:Localisation   
CATEGORIES:Sportif
STATUS:
DESCRIPTION:<p><a
 href="https://tiralarcbretagne.fr/wp-content/uploads/2026/04/Mandat-NATURE-RENNES-10-mai-2026.pdf"
 target="_blank" rel="noreferrer noopener">Mandat</a></p>
 
 <p><a
 href="https://archersderennes.com/tir-nature-championnat-de-bretagne-10-mai-2026/apercu/89/tir-nature-championnat-de-bretagne-10-05-2026"
 target="_blank" rel="noreferrer noopener">Inscription</a></p>
URL;VALUE=URI:https://www.archersdecoigny.com/evenements/2026/05/10/concours-campagne-rennes-championnat-de-bretagne-2443258
END:VEVENT
END:VCALENDAR
