BEGIN:VCALENDAR
VERSION:2.0
PRODID:-//hacksw/handcal//NONSGML v1.0//EN
BEGIN:VEVENT
SUMMARY:Concours TAE Tinteniac - DR2
UID:a98ba89b-865b-4ca5-aaa1-6e0420346077
DTSTART:20260509T220000Z
DTEND:20260510T220000Z
LOCATION:Localisation   
CATEGORIES:Sportif
STATUS:
DESCRIPTION:<p>En attente mandat</p>
URL;VALUE=URI:https://www.archersdecoigny.com/evenements/2026/05/10/concours-tae-tinteniac-dr2-2443103
END:VEVENT
END:VCALENDAR
