BEGIN:VCALENDAR
VERSION:2.0
PRODID:-//hacksw/handcal//NONSGML v1.0//EN
BEGIN:VEVENT
SUMMARY:Concours TAE Saint Ave
UID:370ca285-6f4e-45ce-be81-21e48cd94414
DTSTART:20260512T220000Z
DTEND:20260513T220000Z
LOCATION:Localisation   
CATEGORIES:Sportif
STATUS:
DESCRIPTION:<p><a
 href="https://tiralarcbretagne.fr/wp-content/uploads/2026/04/Mandat-TAE-SAINT-AVE-13-mai-2026.pdf"
 target="_blank" rel="noreferrer noopener">Mandat</a></p>
URL;VALUE=URI:https://www.archersdecoigny.com/evenements/2026/05/13/concours-tae-saint-ave-2443104
END:VEVENT
END:VCALENDAR
