BEGIN:VCALENDAR
VERSION:2.0
PRODID:-//hacksw/handcal//NONSGML v1.0//EN
BEGIN:VEVENT
SUMMARY:Concours TAE Vannes DR manche 1 & 2
UID:cb951d83-4ad3-470b-b424-48e4258f6c6d
DTSTART:20260515T220000Z
DTEND:20260517T220000Z
LOCATION:Localisation   
CATEGORIES:Sportif
STATUS:
DESCRIPTION:<p>En attente mandat</p>
URL;VALUE=URI:https://www.archersdecoigny.com/evenements/2026/05/16/concours-tae-vannes-dr-manche-1-2-2443106
END:VEVENT
END:VCALENDAR
