BEGIN:VCALENDAR
VERSION:2.0
PRODID:-//hacksw/handcal//NONSGML v1.0//EN
BEGIN:VEVENT
SUMMARY:Concours TAE Pleslin-Trigavou
UID:9d713880-86c9-48f6-9f72-3fc1c073a06e
DTSTART:20260522T220000Z
DTEND:20260524T220000Z
LOCATION:Localisation   
CATEGORIES:Sportif
STATUS:
DESCRIPTION:<p><a
 href="https://tiralarcbretagne.fr/wp-content/uploads/2026/03/Mandat-TAE-PLESLIN-TRIGAVOU-23-et-24-mai-2026.pdf"
 target="_blank" rel="noreferrer noopener">Mandat</a></p>
URL;VALUE=URI:https://www.archersdecoigny.com/evenements/2026/05/23/concours-tae-pleslin-trigavou-2443108
END:VEVENT
END:VCALENDAR
