BEGIN:VCALENDAR
VERSION:2.0
PRODID:-//hacksw/handcal//NONSGML v1.0//EN
BEGIN:VEVENT
SUMMARY:Concours Campagne Vannes - Championnat du Morbihan
UID:4e1f2af7-bcc8-4bf4-a390-e81e07cfc564
DTSTART:20260523T220000Z
DTEND:20260524T220000Z
LOCATION:Localisation   
CATEGORIES:Sportif
STATUS:
DESCRIPTION:<p><a
 href="https://tiralarcbretagne.fr/wp-content/uploads/2026/03/Mandat-CAMPAGNE-VANNES-24-mai-2026.pdf"
 target="_blank" rel="noreferrer noopener">Mandat</a></p>
 
 <p><a
 href="https://richemont-campagne.inscriptarc.fr/" target="_blank"
 rel="noreferrer noopener">Inscription</a></p>
URL;VALUE=URI:https://www.archersdecoigny.com/evenements/2026/05/24/concours-campagne-vannes-championnat-du-morbihan-2443248
END:VEVENT
END:VCALENDAR
