BEGIN:VCALENDAR
VERSION:2.0
PRODID:-//hacksw/handcal//NONSGML v1.0//EN
BEGIN:VEVENT
SUMMARY:Concours TAE Pleumeleuc
UID:00ad69da-e4f7-406a-992d-799ffcd81a2b
DTSTART:20260529T220000Z
DTEND:20260531T220000Z
LOCATION:Localisation   
CATEGORIES:Sportif
STATUS:
DESCRIPTION:<p>En attente mandat</p>
URL;VALUE=URI:https://www.archersdecoigny.com/evenements/2026/05/30/concours-tae-pleumeleuc-2443112
END:VEVENT
END:VCALENDAR
