BEGIN:VCALENDAR
VERSION:2.0
PRODID:-//hacksw/handcal//NONSGML v1.0//EN
BEGIN:VEVENT
SUMMARY:Concours TAE Rennes - Championnat de France - equipes D1
UID:c6f481af-2f3a-48f7-9fb6-6ca160cccd24
DTSTART:20260529T220000Z
DTEND:20260531T220000Z
LOCATION:Localisation   
CATEGORIES:Sportif
STATUS:
DESCRIPTION:<p>En attente mandat</p>
URL;VALUE=URI:https://www.archersdecoigny.com/evenements/2026/05/30/concours-tae-rennes-championnat-de-france-equipes-d1-2443116
END:VEVENT
END:VCALENDAR
