BEGIN:VCALENDAR
VERSION:2.0
PRODID:-//hacksw/handcal//NONSGML v1.0//EN
BEGIN:VEVENT
SUMMARY:Concours TAE Rennes - Circuit national indivisuel
UID:9d04cae4-16b9-45a1-8b4f-a8284d135a5b
DTSTART:20260529T220000Z
DTEND:20260530T220000Z
LOCATION:Localisation   
CATEGORIES:Sportif
STATUS:
DESCRIPTION:<p>En attente mandat</p>
URL;VALUE=URI:https://www.archersdecoigny.com/evenements/2026/05/30/concours-tae-rennes-circuit-national-indivisuel-2443110
END:VEVENT
END:VCALENDAR
