BEGIN:VCALENDAR
VERSION:2.0
PRODID:-//hacksw/handcal//NONSGML v1.0//EN
BEGIN:VEVENT
SUMMARY:Concours TAE Paimpol - Championnat des Cotes d'Armor
UID:b80e20d8-513e-43f4-98f6-8a75bb7bd480
DTSTART:20260530T220000Z
DTEND:20260531T220000Z
LOCATION:Localisation   
CATEGORIES:Sportif
STATUS:
DESCRIPTION:<p>En attente mandat</p>
URL;VALUE=URI:https://www.archersdecoigny.com/evenements/2026/05/31/concours-tae-paimpol-championnat-des-cotes-darmor-2443119
END:VEVENT
END:VCALENDAR
