BEGIN:VCALENDAR
VERSION:2.0
PRODID:-//hacksw/handcal//NONSGML v1.0//EN
BEGIN:VEVENT
SUMMARY:Concours Campagne Saint Quay Portrieux - Championnat de Bretagne
UID:2b7062f0-3514-486a-a618-6764ff3959a5
DTSTART:20260606T220000Z
DTEND:20260607T220000Z
LOCATION:Localisation   
CATEGORIES:Sportif
STATUS:
DESCRIPTION:<p><a
 href="https://tiralarcbretagne.fr/wp-content/uploads/2026/04/Mandat-CAMPAGNE-SAINT-QUAY-PORTRIEUX-7-juin-2026.pdf"
 target="_blank" rel="noreferrer noopener">Mandat</a></p>
 
 <p><a
 href="https://bretagne-campagne.inscriptarc.fr/" target="_blank"
 rel="noreferrer noopener">Inscription</a></p>
URL;VALUE=URI:https://www.archersdecoigny.com/evenements/2026/06/07/concours-campagne-saint-quay-portrieux-championnat-de-bretagne-2443249
END:VEVENT
END:VCALENDAR
