BEGIN:VCALENDAR
VERSION:2.0
PRODID:-//hacksw/handcal//NONSGML v1.0//EN
BEGIN:VEVENT
SUMMARY:Concours 3D Vern sur Seiche
UID:a6dd9fa6-8876-4e3f-a26b-91f0a73e08df
DTSTART:20260612T220000Z
DTEND:20260614T220000Z
LOCATION:Localisation   
CATEGORIES:Sportif
STATUS:
DESCRIPTION:<p>En attente mandat</p>
URL;VALUE=URI:https://www.archersdecoigny.com/evenements/2026/06/13/concours-3d-vern-sur-seiche-2443272
END:VEVENT
END:VCALENDAR
