BEGIN:VCALENDAR
VERSION:2.0
PRODID:-//hacksw/handcal//NONSGML v1.0//EN
BEGIN:VEVENT
SUMMARY:Concous TAE Thorigne Fouillard - Championnat d'Ille et Vilaine - TAE N
UID:ebc51143-65da-420b-9fdd-aeb21f522bf8
DTSTART:20260620T220000Z
DTEND:20260621T220000Z
LOCATION:Localisation   
CATEGORIES:Sportif
STATUS:
DESCRIPTION:<p>En attente mandat</p>
URL;VALUE=URI:https://www.archersdecoigny.com/evenements/2026/06/21/concous-tae-thorigne-fouillard-championnat-dille-et-vilaine-tae-n-2443123
END:VEVENT
END:VCALENDAR
