BEGIN:VCALENDAR
VERSION:2.0
PRODID:-//hacksw/handcal//NONSGML v1.0//EN
BEGIN:VEVENT
SUMMARY:Concours TAE Saint Jacques de la Lande
UID:2a4e57a6-b0a2-44fe-96ea-be848ef3da5c
DTSTART:20260623T220000Z
DTEND:20260624T220000Z
LOCATION:Localisation   
CATEGORIES:Sportif
STATUS:
DESCRIPTION:<p><a
 href="https://tiralarcbretagne.fr/wp-content/uploads/2026/04/Mandat-TAE-SAINT-JACQUES-DE-LA-LANDES-24-juin-2026.pdf"
 target="_blank" rel="noreferrer noopener">Mandat</a></p>
URL;VALUE=URI:https://www.archersdecoigny.com/evenements/2026/06/24/concours-tae-saint-jacques-de-la-lande-2443122
END:VEVENT
END:VCALENDAR
