BEGIN:VCALENDAR
VERSION:2.0
PRODID:-//hacksw/handcal//NONSGML v1.0//EN
BEGIN:VEVENT
SUMMARY:Concours Nature Peillac - Championnat du Morbihan
UID:7fc02d9b-07a3-4f97-b701-a5bc7124fa59
DTSTART:20260627T220000Z
DTEND:20260628T220000Z
LOCATION:Localisation   
CATEGORIES:Sportif
STATUS:
DESCRIPTION:<p>En attente de mandat</p>
URL;VALUE=URI:https://www.archersdecoigny.com/evenements/2026/06/28/concours-nature-peillac-championnat-du-morbihan-2443274
END:VEVENT
END:VCALENDAR
