BEGIN:VCALENDAR
VERSION:2.0
PRODID:-//hacksw/handcal//NONSGML v1.0//EN
BEGIN:VEVENT
SUMMARY:Concours Campagne Saint Quay Portrieux
UID:aba27f5d-5129-4fa3-8b40-b4bfe2afaffa
DTSTART:20260704T220000Z
DTEND:20260705T220000Z
LOCATION:Localisation   
CATEGORIES:Sportif
STATUS:
DESCRIPTION:<p>En attente du mandat</p>
URL;VALUE=URI:https://www.archersdecoigny.com/evenements/2026/07/05/concours-campagne-saint-quay-portrieux-2443250
END:VEVENT
END:VCALENDAR
