BEGIN:VCALENDAR
VERSION:2.0
PRODID:-//hacksw/handcal//NONSGML v1.0//EN
BEGIN:VEVENT
SUMMARY:Concours TAE Rennes
UID:2edbce93-f99f-4582-9b58-e8fe47ec445d
DTSTART:20260709T220000Z
DTEND:20260710T220000Z
LOCATION:Localisation   
CATEGORIES:Sportif
STATUS:
DESCRIPTION:<p>En attente mandat</p>
URL;VALUE=URI:https://www.archersdecoigny.com/evenements/2026/07/10/concours-tae-rennes-2443128
END:VEVENT
END:VCALENDAR
