BEGIN:VCALENDAR
VERSION:2.0
PRODID:-//hacksw/handcal//NONSGML v1.0//EN
BEGIN:VEVENT
SUMMARY:Concours TAE Rennes - Groupe Regional
UID:8d074856-ba76-40d7-bb8f-a9b207492b3b
DTSTART:20260710T220000Z
DTEND:20260711T220000Z
LOCATION:Localisation   
CATEGORIES:Sportif
STATUS:
DESCRIPTION:<p>En attente mandat</p>
URL;VALUE=URI:https://www.archersdecoigny.com/evenements/2026/07/11/concours-tae-rennes-groupe-regional-2443129
END:VEVENT
END:VCALENDAR
